BEGIN:VCALENDAR
VERSION:2.0
PRODID:-//Tukios.com/
BEGIN:VEVENT
UID:3bf00628-9157-4d35-9b0b-872e0cb06a0b@www.franklinfh.com
DTSTAMP:20260423T233119Z
DTSTART:20260425T170000Z
DTEND:20260425T180000Z
SUMMARY:Graveside Service
DESCRIPTION:
URL:https://www.franklinfh.com/obituaries/arthur-boyte
LOCATION:Roxie Cemetery Teneessee Street  Roxie MS 39661
GEO:31.5022388;-91.060179
END:VEVENT
END:VCALENDAR