BEGIN:VCALENDAR
VERSION:2.0
PRODID:-//Tukios.com/
BEGIN:VEVENT
UID:e80f98d0-4a94-4f9d-a9cf-cffd13c91ae2@www.franklinfh.com
DTSTAMP:20260423T233149Z
DTSTART:20260425T160000Z
DTEND:20260425T170000Z
SUMMARY:Funeral Service
DESCRIPTION:
URL:https://www.franklinfh.com/obituaries/arthur-boyte
LOCATION:Roxie Baptist Church 200 Carolina St.  Roxie MS 39661
GEO:31.5039775;-91.069392
END:VEVENT
END:VCALENDAR