BEGIN:VCALENDAR
VERSION:2.0
PRODID:-//Tukios.com/
BEGIN:VEVENT
UID:a41122ec-2bf7-4ea8-9012-0d18c694eb33@www.franklinfh.com
DTSTAMP:20260423T233014Z
DTSTART:20260425T150000Z
DTEND:20260425T160000Z
SUMMARY:Visitation
DESCRIPTION:
URL:https://www.franklinfh.com/obituaries/arthur-boyte
LOCATION:Roxie Baptist Church 200 Carolina St.  Roxie MS 39661
GEO:31.5039775;-91.069392
END:VEVENT
END:VCALENDAR