BEGIN:VCALENDAR
VERSION:2.0
PRODID:-//Tukios.com/
BEGIN:VEVENT
UID:f63d7a2f-0f7d-40bd-b586-014fcec8d1fd@www.franklinfh.com
DTSTAMP:20260423T233339Z
DTSTART:20260424T220000Z
DTEND:20260425T010000Z
SUMMARY:Visitation
DESCRIPTION:
URL:https://www.franklinfh.com/obituaries/arthur-boyte
LOCATION:Franklin Funeral Home 291 Main St  Meadville MS 39653
GEO:31.4729458;-90.8887708
END:VEVENT
END:VCALENDAR